BEGIN:VCALENDAR
VERSION:2.0
PRODID:-//AVT Houthalen-Helchteren - ECPv6.6.0.2//NONSGML v1.0//EN
CALSCALE:GREGORIAN
METHOD:PUBLISH
X-ORIGINAL-URL:https://avthouthalenhelchteren.be
X-WR-CALDESC:Evenementen voor AVT Houthalen-Helchteren
REFRESH-INTERVAL;VALUE=DURATION:PT1H
X-Robots-Tag:noindex
X-PUBLISHED-TTL:PT1H
BEGIN:VTIMEZONE
TZID:UTC
BEGIN:STANDARD
TZOFFSETFROM:+0000
TZOFFSETTO:+0000
TZNAME:UTC
DTSTART:20250101T000000
END:STANDARD
END:VTIMEZONE
BEGIN:VEVENT
DTSTART;TZID=UTC:20251205T183000
DTEND;TZID=UTC:20251205T183000
DTSTAMP:20260421T033839
CREATED:20251113T145550Z
LAST-MODIFIED:20251113T145550Z
UID:25228-1764959400-1764959400@avthouthalenhelchteren.be
SUMMARY:Sinterklaas training
DESCRIPTION:Training in Sinterklaas thema. Trainen zoals sinterklaas en zwarte piet. Door schuif systeem met spelletjes.\nKindjes krijgen klein zakje snoep. Sint komt op bezoek!
URL:https://avthouthalenhelchteren.be/event/sinterklaas-training-2/
CATEGORIES:Thematrainingen
END:VEVENT
BEGIN:VEVENT
DTSTART;TZID=UTC:20251206T140000
DTEND;TZID=UTC:20251206T140000
DTSTAMP:20260421T033839
CREATED:20251113T145550Z
LAST-MODIFIED:20251113T145550Z
UID:25229-1765029600-1765029600@avthouthalenhelchteren.be
SUMMARY:Open meeting met jeugd (Heusden)
DESCRIPTION:
URL:https://avthouthalenhelchteren.be/event/open-meeting-met-jeugd-heusden-5/
CATEGORIES:Externe wedstrijden
END:VEVENT
BEGIN:VEVENT
DTSTART;TZID=UTC:20251219T163000
DTEND;TZID=UTC:20251219T163000
DTSTAMP:20260421T033839
CREATED:20251113T145550Z
LAST-MODIFIED:20251113T145550Z
UID:25230-1766161800-1766161800@avthouthalenhelchteren.be
SUMMARY:Kerstavondmeeting (Heusden)
DESCRIPTION:
URL:https://avthouthalenhelchteren.be/event/kerstavondmeeting-heusden/
CATEGORIES:Externe wedstrijden
END:VEVENT
BEGIN:VEVENT
DTSTART;TZID=UTC:20251227T140000
DTEND;TZID=UTC:20251227T140000
DTSTAMP:20260421T033839
CREATED:20251113T145551Z
LAST-MODIFIED:20251113T145551Z
UID:25231-1766844000-1766844000@avthouthalenhelchteren.be
SUMMARY:Sylvestermeeting (Heusden)
DESCRIPTION:
URL:https://avthouthalenhelchteren.be/event/sylvestermeeting-heusden/
CATEGORIES:Externe wedstrijden
END:VEVENT
END:VCALENDAR