BEGIN:VCALENDAR
VERSION:2.0
PRODID:-//AVT Houthalen-Helchteren - ECPv6.6.0.2//NONSGML v1.0//EN
CALSCALE:GREGORIAN
METHOD:PUBLISH
X-WR-CALNAME:AVT Houthalen-Helchteren
X-ORIGINAL-URL:https://avthouthalenhelchteren.be
X-WR-CALDESC:Evenementen voor AVT Houthalen-Helchteren
REFRESH-INTERVAL;VALUE=DURATION:PT1H
X-Robots-Tag:noindex
X-PUBLISHED-TTL:PT1H
BEGIN:VTIMEZONE
TZID:UTC
BEGIN:STANDARD
TZOFFSETFROM:+0000
TZOFFSETTO:+0000
TZNAME:UTC
DTSTART:20250101T000000
END:STANDARD
END:VTIMEZONE
BEGIN:VEVENT
DTSTART;TZID=UTC:20250712T133000
DTEND;TZID=UTC:20250712T133000
DTSTAMP:20260423T103835
CREATED:20250401T123047Z
LAST-MODIFIED:20250401T131414Z
UID:5482-1752327000-1752327000@avthouthalenhelchteren.be
SUMMARY:Polsstokmeeting (Heusden)
DESCRIPTION:
URL:https://avthouthalenhelchteren.be/event/polsstokmeeting-heusden/
CATEGORIES:Externe wedstrijden
END:VEVENT
BEGIN:VEVENT
DTSTART;TZID=UTC:20250719T130000
DTEND;TZID=UTC:20250719T130000
DTSTAMP:20260423T103835
CREATED:20250401T123047Z
LAST-MODIFIED:20250401T131414Z
UID:5483-1752930000-1752930000@avthouthalenhelchteren.be
SUMMARY:WACT Bronze - Nacht van de Atletiek (Heusden)
DESCRIPTION:
URL:https://avthouthalenhelchteren.be/event/wact-bronze-nacht-van-de-atletiek-heusden/
CATEGORIES:Externe wedstrijden
END:VEVENT
BEGIN:VEVENT
DTSTART;TZID=UTC:20250727T140000
DTEND;TZID=UTC:20250727T140000
DTSTAMP:20260423T103835
CREATED:20250401T123144Z
LAST-MODIFIED:20250401T131614Z
UID:5484-1753624800-1753624800@avthouthalenhelchteren.be
SUMMARY:Open meeting (Hasselt)
DESCRIPTION:
URL:https://avthouthalenhelchteren.be/event/open-meeting-hasselt/
CATEGORIES:Externe wedstrijden
END:VEVENT
BEGIN:VEVENT
DTSTART;TZID=UTC:20250728T090000
DTEND;TZID=UTC:20250728T090000
DTSTAMP:20260423T103835
CREATED:20250401T123200Z
LAST-MODIFIED:20250401T131815Z
UID:5492-1753693200-1753693200@avthouthalenhelchteren.be
SUMMARY:Sportkamp met atletiek
DESCRIPTION:
URL:https://avthouthalenhelchteren.be/event/sportkamp-met-atletiek/
CATEGORIES:Kern activiteiten
END:VEVENT
BEGIN:VEVENT
DTSTART;TZID=UTC:20250730T180000
DTEND;TZID=UTC:20250730T180000
DTSTAMP:20260423T103835
CREATED:20250401T123144Z
LAST-MODIFIED:20250401T131614Z
UID:5485-1753898400-1753898400@avthouthalenhelchteren.be
SUMMARY:Pater Vandenberk Jeugdmeeting (Heusden)
DESCRIPTION:
URL:https://avthouthalenhelchteren.be/event/pater-vandenberk-jeugdmeeting-heusden-2/
CATEGORIES:Externe wedstrijden
END:VEVENT
END:VCALENDAR