BEGIN:VCALENDAR
VERSION:2.0
PRODID:-//AVT Houthalen-Helchteren - ECPv6.6.0.2//NONSGML v1.0//EN
CALSCALE:GREGORIAN
METHOD:PUBLISH
X-WR-CALNAME:AVT Houthalen-Helchteren
X-ORIGINAL-URL:https://avthouthalenhelchteren.be
X-WR-CALDESC:Evenementen voor AVT Houthalen-Helchteren
REFRESH-INTERVAL;VALUE=DURATION:PT1H
X-Robots-Tag:noindex
X-PUBLISHED-TTL:PT1H
BEGIN:VTIMEZONE

END:VTIMEZONE
BEGIN:VEVENT
DTSTART;TZID=UTC:20250322T080000
DTEND;TZID=UTC:20250322T170000
DTSTAMP:20260423T093744
CREATED:20250401T130902Z
LAST-MODIFIED:20250401T130902Z
UID:5038-1742630400-1742662800@avthouthalenhelchteren.be
SUMMARY:AVT Jeugddag (Heusden)
DESCRIPTION:
URL:https://www.atletiek.nu/wedstrijd/chronoloog/41980/#new_tab
CATEGORIES:Externe wedstrijden
END:VEVENT
BEGIN:VEVENT
DTSTART;TZID=UTC:20250316T080000
DTEND;TZID=UTC:20250316T170000
DTSTAMP:20260423T093744
CREATED:20250401T130902Z
LAST-MODIFIED:20250401T130902Z
UID:2828-1742112000-1742144400@avthouthalenhelchteren.be
SUMMARY:VijverRun33 (Heusden)
DESCRIPTION:
URL:https://www.heusden-zolder.be/vijverrun#new_tab
CATEGORIES:Externe wedstrijden
END:VEVENT
BEGIN:VEVENT
DTSTART;TZID=UTC:20250308T080000
DTEND;TZID=UTC:20250308T170000
DTSTAMP:20260423T093744
CREATED:20250401T130902Z
LAST-MODIFIED:20250401T130902Z
UID:2825-1741420800-1741453200@avthouthalenhelchteren.be
SUMMARY:Open meeting met jeugd (Heusden)
DESCRIPTION:
URL:https://www.atletiek.nu/wedstrijd/inschrijven/41702/#new_tab
CATEGORIES:Externe wedstrijden
END:VEVENT
BEGIN:VEVENT
DTSTART;TZID=UTC:20250305T080000
DTEND;TZID=UTC:20250305T170000
DTSTAMP:20260423T093744
CREATED:20250401T130902Z
LAST-MODIFIED:20250401T130902Z
UID:2822-1741161600-1741194000@avthouthalenhelchteren.be
SUMMARY:Kan/Ben indoormeeting 2 (Heusden)
DESCRIPTION:
URL:https://www.atletiek.nu/wedstrijd/inschrijven/41701/#new_tab
CATEGORIES:Externe wedstrijden
END:VEVENT
BEGIN:VEVENT
DTSTART;TZID=UTC:20250222T080000
DTEND;TZID=UTC:20250222T170000
DTSTAMP:20260423T093744
CREATED:20250401T130903Z
LAST-MODIFIED:20250401T130903Z
UID:2819-1740211200-1740243600@avthouthalenhelchteren.be
SUMMARY:Open meeting met jeugd (Heusden)
DESCRIPTION:
URL:https://www.atletiek.nu/wedstrijd/inschrijven/41728/#new_tab
CATEGORIES:Externe wedstrijden
END:VEVENT
BEGIN:VEVENT
DTSTART;TZID=UTC:20250216T080000
DTEND;TZID=UTC:20250216T170000
DTSTAMP:20260423T093744
CREATED:20250401T130903Z
LAST-MODIFIED:20250401T130903Z
UID:2831-1739692800-1739725200@avthouthalenhelchteren.be
SUMMARY:Midwinterjogging (Hasselt)
DESCRIPTION:
URL:http://www.avthasselt.be/midwinterjogging.php#new_tab
CATEGORIES:Externe wedstrijden
END:VEVENT
BEGIN:VEVENT
DTSTART;TZID=UTC:20250208T080000
DTEND;TZID=UTC:20250208T170000
DTSTAMP:20260423T093744
CREATED:20250401T130903Z
LAST-MODIFIED:20250401T130903Z
UID:2813-1739001600-1739034000@avthouthalenhelchteren.be
SUMMARY:Open meeting met jeugd (Heusden)
DESCRIPTION:
URL:https://www.atletiek.nu/wedstrijd/inschrijven/41700/#new_tab
CATEGORIES:Externe wedstrijden
END:VEVENT
BEGIN:VEVENT
DTSTART;TZID=UTC:20250111T080000
DTEND;TZID=UTC:20250111T170000
DTSTAMP:20260423T093744
CREATED:20250401T130903Z
LAST-MODIFIED:20250401T130903Z
UID:2810-1736582400-1736614800@avthouthalenhelchteren.be
SUMMARY:Provinciaal Kampioenschap AC Dag 1 (Heusden)
DESCRIPTION:
URL:https://www.atletiek.nu/wedstrijd/inschrijven/41699/#new_tab
CATEGORIES:Externe wedstrijden
END:VEVENT
BEGIN:VEVENT
DTSTART;TZID=UTC:20250108T080000
DTEND;TZID=UTC:20250108T170000
DTSTAMP:20260423T093744
CREATED:20250401T130904Z
LAST-MODIFIED:20250401T130904Z
UID:2807-1736323200-1736355600@avthouthalenhelchteren.be
SUMMARY:Kan/Ben indoormeeting 1 (Heusden)
DESCRIPTION:
URL:https://www.atletiek.nu/wedstrijd/inschrijven/41706/#new_tab
CATEGORIES:Externe wedstrijden
END:VEVENT
BEGIN:VEVENT
DTSTART;TZID=UTC:20241227T080000
DTEND;TZID=UTC:20241227T170000
DTSTAMP:20260423T093744
CREATED:20250401T130904Z
LAST-MODIFIED:20250401T130904Z
UID:2714-1735286400-1735318800@avthouthalenhelchteren.be
SUMMARY:Sylvestermeeting (Heusden)
DESCRIPTION:
URL:https://www.atletiek.nu/wedstrijd/inschrijven/41705/#new_tab
CATEGORIES:Externe wedstrijden
END:VEVENT
BEGIN:VEVENT
DTSTART;TZID=UTC:20241220T183000
DTEND;TZID=UTC:20241220T220000
DTSTAMP:20260423T093744
CREATED:20250401T130904Z
LAST-MODIFIED:20250401T130904Z
UID:3056-1734719400-1734732000@avthouthalenhelchteren.be
SUMMARY:Kerst training
DESCRIPTION:We maken er nog een gezellige eindejaarstraining van met chocomelk en Glühwein!
URL:https://avthouthalenhelchteren.be/event/kerst-training/
CATEGORIES:Activiteiten
END:VEVENT
BEGIN:VEVENT
DTSTART;TZID=UTC:20241220T080000
DTEND;TZID=UTC:20241220T170000
DTSTAMP:20260423T093744
CREATED:20250401T130904Z
LAST-MODIFIED:20250401T130904Z
UID:2712-1734681600-1734714000@avthouthalenhelchteren.be
SUMMARY:Kerstavondmeeting (Heusden)
DESCRIPTION:
URL:https://www.atletiek.nu/wedstrijd/inschrijven/41704/#new_tab
CATEGORIES:Externe wedstrijden
END:VEVENT
BEGIN:VEVENT
DTSTART;TZID=UTC:20241207T080000
DTEND;TZID=UTC:20241207T170000
DTSTAMP:20260423T093744
CREATED:20250401T130904Z
LAST-MODIFIED:20250401T130904Z
UID:2710-1733558400-1733590800@avthouthalenhelchteren.be
SUMMARY:Open meeting met jeugd (Heusden)
DESCRIPTION:
URL:https://www.atletiek.nu/wedstrijd/inschrijven/41703/#new_tab
CATEGORIES:Externe wedstrijden
END:VEVENT
BEGIN:VEVENT
DTSTART;TZID=UTC:20241206T080000
DTEND;TZID=UTC:20241206T170000
DTSTAMP:20260423T093744
CREATED:20250401T130905Z
LAST-MODIFIED:20250401T130905Z
UID:2708-1733472000-1733504400@avthouthalenhelchteren.be
SUMMARY:Sinterklaas training
DESCRIPTION:Een leuke thema training\, train een dag zoals sinterklaas en zijn pieten!
URL:https://avthouthalenhelchteren.be/event/sinterklaas-training/
CATEGORIES:Activiteiten,Thematrainingen
END:VEVENT
BEGIN:VEVENT
DTSTART;TZID=UTC:20241111T080000
DTEND;TZID=UTC:20241111T170000
DTSTAMP:20260423T093744
CREATED:20250401T130905Z
LAST-MODIFIED:20250401T130905Z
UID:2778-1731312000-1731344400@avthouthalenhelchteren.be
SUMMARY:Herdenking jogging (intern)
DESCRIPTION:Jog samen\, er zijn 4 afstanden voorzien. Tijdstip volgt nog.
URL:https://avthouthalenhelchteren.be/event/herdenking-jogging-intern/
CATEGORIES:Activiteiten
END:VEVENT
BEGIN:VEVENT
DTSTART;TZID=UTC:20241101T080000
DTEND;TZID=UTC:20241101T170000
DTSTAMP:20260423T093744
CREATED:20250401T130905Z
LAST-MODIFIED:20250401T130905Z
UID:2871-1730448000-1730480400@avthouthalenhelchteren.be
SUMMARY:Halloweentraining
DESCRIPTION:
URL:https://avthouthalenhelchteren.be/event/halloweentraining/
END:VEVENT
BEGIN:VEVENT
DTSTART;TZID=UTC:20260423T093744
DTEND;TZID=UTC:20260423T093744
DTSTAMP:20260423T093744
CREATED:20250401T123032Z
LAST-MODIFIED:20250401T131357Z
UID:5478-0-0@avthouthalenhelchteren.be
SUMMARY:Pater Vandenberk Jeugdmeeting (Hechtel)
DESCRIPTION:
URL:https://avthouthalenhelchteren.be/event/pater-vandenberk-jeugdmeeting-hechtel/
CATEGORIES:Externe wedstrijden
END:VEVENT
END:VCALENDAR