BEGIN:VCALENDAR
VERSION:2.0
PRODID:-//AVT Houthalen-Helchteren - ECPv6.6.0.2//NONSGML v1.0//EN
CALSCALE:GREGORIAN
METHOD:PUBLISH
X-WR-CALNAME:AVT Houthalen-Helchteren
X-ORIGINAL-URL:https://avthouthalenhelchteren.be
X-WR-CALDESC:Evenementen voor AVT Houthalen-Helchteren
REFRESH-INTERVAL;VALUE=DURATION:PT1H
X-Robots-Tag:noindex
X-PUBLISHED-TTL:PT1H
BEGIN:VTIMEZONE
TZID:UTC
BEGIN:STANDARD
TZOFFSETFROM:+0000
TZOFFSETTO:+0000
TZNAME:UTC
DTSTART:20250101T000000
END:STANDARD
END:VTIMEZONE
BEGIN:VEVENT
DTSTART;TZID=UTC:20251029T183000
DTEND;TZID=UTC:20251029T200000
DTSTAMP:20260421T053122
CREATED:20250813T083217Z
LAST-MODIFIED:20251013T090428Z
UID:22974-1761762600-1761768000@avthouthalenhelchteren.be
SUMMARY:Start to Run
DESCRIPTION:
URL:https://avthouthalenhelchteren.be/start2run/#new_tab
CATEGORIES:Kern activiteiten
END:VEVENT
BEGIN:VEVENT
DTSTART;TZID=UTC:20250928T140000
DTEND;TZID=UTC:20250928T140000
DTSTAMP:20260421T053122
CREATED:20250401T123300Z
LAST-MODIFIED:20250401T132015Z
UID:5495-1759068000-1759068000@avthouthalenhelchteren.be
SUMMARY:Pater Vandenberk jeugdmeeting (Heusden)
DESCRIPTION:
URL:https://avthouthalenhelchteren.be/event/pater-vandenberk-jeugdmeeting-heusden-4/
CATEGORIES:Externe wedstrijden
END:VEVENT
BEGIN:VEVENT
DTSTART;TZID=UTC:20250928T103000
DTEND;TZID=UTC:20250928T103000
DTSTAMP:20260421T053122
CREATED:20250401T123159Z
LAST-MODIFIED:20250401T131815Z
UID:5490-1759055400-1759055400@avthouthalenhelchteren.be
SUMMARY:KAN/BEN meeting (Heusden)
DESCRIPTION:
URL:https://avthouthalenhelchteren.be/event/kan-ben-meeting-heusden/
CATEGORIES:Externe wedstrijden
END:VEVENT
BEGIN:VEVENT
DTSTART;TZID=UTC:20250920T170000
DTEND;TZID=UTC:20250920T210000
DTSTAMP:20260421T053122
CREATED:20250401T123028Z
LAST-MODIFIED:20250813T120855Z
UID:5470-1758387600-1758402000@avthouthalenhelchteren.be
SUMMARY:Barbecue
DESCRIPTION:Veel vlees met een lekker groenten en pastabuffet.
URL:https://shop.avthh.be/event/4/54ste-barbecue#new_tab
CATEGORIES:Kern activiteiten
END:VEVENT
BEGIN:VEVENT
DTSTART;TZID=UTC:20250907T140000
DTEND;TZID=UTC:20250907T140000
DTSTAMP:20260421T053122
CREATED:20250401T123159Z
LAST-MODIFIED:20250401T131814Z
UID:5489-1757253600-1757253600@avthouthalenhelchteren.be
SUMMARY:Pater Vandenberk Jeugdmeeting (Hechtel)
DESCRIPTION:
URL:https://avthouthalenhelchteren.be/event/pater-vandenberk-jeugdmeeting-hechtel-2/
CATEGORIES:Externe wedstrijden
END:VEVENT
BEGIN:VEVENT
DTSTART;TZID=UTC:20250907T100000
DTEND;TZID=UTC:20250907T100000
DTSTAMP:20260421T053122
CREATED:20250401T123145Z
LAST-MODIFIED:20250401T131615Z
UID:5488-1757239200-1757239200@avthouthalenhelchteren.be
SUMMARY:KAN/BEN meeting (Hechtel)
DESCRIPTION:
URL:https://avthouthalenhelchteren.be/event/kan-ben-meeting-hechtel-2/
CATEGORIES:Externe wedstrijden
END:VEVENT
BEGIN:VEVENT
DTSTART;TZID=UTC:20250903T174500
DTEND;TZID=UTC:20250903T174500
DTSTAMP:20260421T053122
CREATED:20250401T123200Z
LAST-MODIFIED:20250401T131815Z
UID:5493-1756921500-1756921500@avthouthalenhelchteren.be
SUMMARY:Start probeermaand
DESCRIPTION:
URL:https://avthouthalenhelchteren.be/event/start-probeermaand/
CATEGORIES:Kern activiteiten
END:VEVENT
BEGIN:VEVENT
DTSTART;TZID=UTC:20250817T140000
DTEND;TZID=UTC:20250817T140000
DTSTAMP:20260421T053122
CREATED:20250401T123145Z
LAST-MODIFIED:20250730T124149Z
UID:5487-1755439200-1755439200@avthouthalenhelchteren.be
SUMMARY:O̶p̶e̶n̶ ̶m̶e̶e̶t̶i̶n̶g̶ ̶(̶H̶e̶u̶s̶d̶e̶n̶)̶
DESCRIPTION:
URL:https://avthouthalenhelchteren.be/event/open-meeting-heusden/
CATEGORIES:Externe wedstrijden
END:VEVENT
BEGIN:VEVENT
DTSTART;TZID=UTC:20250809T140000
DTEND;TZID=UTC:20250809T140000
DTSTAMP:20260421T053122
CREATED:20250401T123144Z
LAST-MODIFIED:20250401T131614Z
UID:5486-1754748000-1754748000@avthouthalenhelchteren.be
SUMMARY:Pater Vandenberk Jeugdmeeting (Heusden)
DESCRIPTION:
URL:https://avthouthalenhelchteren.be/event/pater-vandenberk-jeugdmeeting-heusden-3/
CATEGORIES:Externe wedstrijden
END:VEVENT
BEGIN:VEVENT
DTSTART;TZID=UTC:20250730T180000
DTEND;TZID=UTC:20250730T180000
DTSTAMP:20260421T053122
CREATED:20250401T123144Z
LAST-MODIFIED:20250401T131614Z
UID:5485-1753898400-1753898400@avthouthalenhelchteren.be
SUMMARY:Pater Vandenberk Jeugdmeeting (Heusden)
DESCRIPTION:
URL:https://avthouthalenhelchteren.be/event/pater-vandenberk-jeugdmeeting-heusden-2/
CATEGORIES:Externe wedstrijden
END:VEVENT
BEGIN:VEVENT
DTSTART;TZID=UTC:20250728T090000
DTEND;TZID=UTC:20250728T090000
DTSTAMP:20260421T053122
CREATED:20250401T123200Z
LAST-MODIFIED:20250401T131815Z
UID:5492-1753693200-1753693200@avthouthalenhelchteren.be
SUMMARY:Sportkamp met atletiek
DESCRIPTION:
URL:https://avthouthalenhelchteren.be/event/sportkamp-met-atletiek/
CATEGORIES:Kern activiteiten
END:VEVENT
BEGIN:VEVENT
DTSTART;TZID=UTC:20250727T140000
DTEND;TZID=UTC:20250727T140000
DTSTAMP:20260421T053122
CREATED:20250401T123144Z
LAST-MODIFIED:20250401T131614Z
UID:5484-1753624800-1753624800@avthouthalenhelchteren.be
SUMMARY:Open meeting (Hasselt)
DESCRIPTION:
URL:https://avthouthalenhelchteren.be/event/open-meeting-hasselt/
CATEGORIES:Externe wedstrijden
END:VEVENT
BEGIN:VEVENT
DTSTART;TZID=UTC:20250719T130000
DTEND;TZID=UTC:20250719T130000
DTSTAMP:20260421T053122
CREATED:20250401T123047Z
LAST-MODIFIED:20250401T131414Z
UID:5483-1752930000-1752930000@avthouthalenhelchteren.be
SUMMARY:WACT Bronze - Nacht van de Atletiek (Heusden)
DESCRIPTION:
URL:https://avthouthalenhelchteren.be/event/wact-bronze-nacht-van-de-atletiek-heusden/
CATEGORIES:Externe wedstrijden
END:VEVENT
BEGIN:VEVENT
DTSTART;TZID=UTC:20250712T133000
DTEND;TZID=UTC:20250712T133000
DTSTAMP:20260421T053122
CREATED:20250401T123047Z
LAST-MODIFIED:20250401T131414Z
UID:5482-1752327000-1752327000@avthouthalenhelchteren.be
SUMMARY:Polsstokmeeting (Heusden)
DESCRIPTION:
URL:https://avthouthalenhelchteren.be/event/polsstokmeeting-heusden/
CATEGORIES:Externe wedstrijden
END:VEVENT
BEGIN:VEVENT
DTSTART;TZID=UTC:20250628T133000
DTEND;TZID=UTC:20250628T133000
DTSTAMP:20260421T053122
CREATED:20250401T123047Z
LAST-MODIFIED:20250401T131413Z
UID:5481-1751117400-1751117400@avthouthalenhelchteren.be
SUMMARY:Pater Vandenberk Jeugdmeeting (Hasselt)
DESCRIPTION:
URL:https://avthouthalenhelchteren.be/event/pater-vandenberk-jeugdmeeting-hasselt/
CATEGORIES:Externe wedstrijden
END:VEVENT
BEGIN:VEVENT
DTSTART;TZID=UTC:20250628T100000
DTEND;TZID=UTC:20250628T100000
DTSTAMP:20260421T053122
CREATED:20250401T123046Z
LAST-MODIFIED:20250401T131413Z
UID:5480-1751104800-1751104800@avthouthalenhelchteren.be
SUMMARY:KAN/BEN meeting (Hasselt)
DESCRIPTION:
URL:https://avthouthalenhelchteren.be/event/kan-ben-meeting-hasselt/
CATEGORIES:Externe wedstrijden
END:VEVENT
BEGIN:VEVENT
DTSTART;TZID=UTC:20250627T183000
DTEND;TZID=UTC:20250627T200000
DTSTAMP:20260421T053122
CREATED:20250401T123300Z
LAST-MODIFIED:20250627T121026Z
UID:5494-1751049000-1751054400@avthouthalenhelchteren.be
SUMMARY:Vakantie training
DESCRIPTION:Training in het thema vakantie\, met water dat geen zweet is. Op het einde wacht nog een lekkere verkoelende verrassing! Bestellen via deze link.
URL:https://avthouthalenhelchteren.be/event/vakantie-training/
CATEGORIES:Thematrainingen
ATTACH;FMTTYPE=image/jpeg:https://avthouthalenhelchteren.be/wp-content/uploads/2025/04/512584736_122160600824501847_7296677174180410296_n.jpg
END:VEVENT
BEGIN:VEVENT
DTSTART;TZID=UTC:20250621T133000
DTEND;TZID=UTC:20250621T133000
DTSTAMP:20260421T053122
CREATED:20250401T123046Z
LAST-MODIFIED:20250401T131413Z
UID:5479-1750512600-1750512600@avthouthalenhelchteren.be
SUMMARY:Midsummer Trail (Oudsbergen)
DESCRIPTION:
URL:https://avthouthalenhelchteren.be/event/midsummer-trail-oudsbergen/
CATEGORIES:Externe wedstrijden
END:VEVENT
BEGIN:VEVENT
DTSTART;TZID=UTC:20250601T100000
DTEND;TZID=UTC:20250601T100000
DTSTAMP:20260421T053122
CREATED:20250401T123032Z
LAST-MODIFIED:20250401T131357Z
UID:5477-1748772000-1748772000@avthouthalenhelchteren.be
SUMMARY:KAN/BEN meeting (Hechtel)
DESCRIPTION:
URL:https://avthouthalenhelchteren.be/event/kan-ben-meeting-hechtel/
CATEGORIES:Externe wedstrijden
END:VEVENT
BEGIN:VEVENT
DTSTART;TZID=UTC:20250529T100000
DTEND;TZID=UTC:20250529T100000
DTSTAMP:20260421T053122
CREATED:20250401T123031Z
LAST-MODIFIED:20250401T131357Z
UID:5476-1748512800-1748512800@avthouthalenhelchteren.be
SUMMARY:ALLIANZ KvV Alle Categorieën (Heusden)
DESCRIPTION:
URL:https://avthouthalenhelchteren.be/event/allianz-kvv-alle-categorieen-heusden/
CATEGORIES:Externe wedstrijden
END:VEVENT
BEGIN:VEVENT
DTSTART;TZID=UTC:20250524T140000
DTEND;TZID=UTC:20250524T140000
DTSTAMP:20260421T053122
CREATED:20250401T123031Z
LAST-MODIFIED:20250401T131357Z
UID:5475-1748095200-1748095200@avthouthalenhelchteren.be
SUMMARY:Open meeting (Hechtel)
DESCRIPTION:
URL:https://avthouthalenhelchteren.be/event/open-meeting-hechtel/
CATEGORIES:Externe wedstrijden
END:VEVENT
BEGIN:VEVENT
DTSTART;TZID=UTC:20250518T100000
DTEND;TZID=UTC:20250518T100000
DTSTAMP:20260421T053122
CREATED:20250401T123031Z
LAST-MODIFIED:20250401T131357Z
UID:5474-1747562400-1747562400@avthouthalenhelchteren.be
SUMMARY:BVV A.C. M+V Ere-afdeling (Heusden)
DESCRIPTION:
URL:https://avthouthalenhelchteren.be/event/bvv-a-c-mv-ere-afdeling-heusden/
CATEGORIES:Externe wedstrijden
END:VEVENT
BEGIN:VEVENT
DTSTART;TZID=UTC:20250511T140000
DTEND;TZID=UTC:20250511T140000
DTSTAMP:20260421T053122
CREATED:20250401T123028Z
LAST-MODIFIED:20250401T131355Z
UID:5471-1746972000-1746972000@avthouthalenhelchteren.be
SUMMARY:Pater Vandenberk Jeugdmeeting (Heusden)
DESCRIPTION:
URL:https://avthouthalenhelchteren.be/event/pater-vandenberk-jeugdmeeting-heusden/
CATEGORIES:Externe wedstrijden
END:VEVENT
BEGIN:VEVENT
DTSTART;TZID=UTC:20250430T133000
DTEND;TZID=UTC:20250430T133000
DTSTAMP:20260421T053122
CREATED:20250401T123027Z
LAST-MODIFIED:20250401T131355Z
UID:5469-1746019800-1746019800@avthouthalenhelchteren.be
SUMMARY:Provinciaal Kampioenschap MOEV (Heusden)
DESCRIPTION:
URL:https://avthouthalenhelchteren.be/event/provinciaal-kampioenschap-moev-heusden/
CATEGORIES:Externe wedstrijden
END:VEVENT
BEGIN:VEVENT
DTSTART;TZID=UTC:20250418T080000
DTEND;TZID=UTC:20250418T170000
DTSTAMP:20260421T053122
CREATED:20250401T130901Z
LAST-MODIFIED:20250401T130901Z
UID:4187-1744963200-1744995600@avthouthalenhelchteren.be
SUMMARY:Paastraining
DESCRIPTION:Thematische training in teken van pasen. Spelletjes\, veel springen als een haas en natuurlijk eitjes rapen!
URL:https://avthouthalenhelchteren.be/event/paastraining/
CATEGORIES:Thematrainingen
END:VEVENT
BEGIN:VEVENT
DTSTART;TZID=UTC:20250322T080000
DTEND;TZID=UTC:20250322T170000
DTSTAMP:20260421T053122
CREATED:20250401T130902Z
LAST-MODIFIED:20250401T130902Z
UID:5038-1742630400-1742662800@avthouthalenhelchteren.be
SUMMARY:AVT Jeugddag (Heusden)
DESCRIPTION:
URL:https://www.atletiek.nu/wedstrijd/chronoloog/41980/#new_tab
CATEGORIES:Externe wedstrijden
END:VEVENT
BEGIN:VEVENT
DTSTART;TZID=UTC:20250316T080000
DTEND;TZID=UTC:20250316T170000
DTSTAMP:20260421T053122
CREATED:20250401T130902Z
LAST-MODIFIED:20250401T130902Z
UID:2828-1742112000-1742144400@avthouthalenhelchteren.be
SUMMARY:VijverRun33 (Heusden)
DESCRIPTION:
URL:https://www.heusden-zolder.be/vijverrun#new_tab
CATEGORIES:Externe wedstrijden
END:VEVENT
BEGIN:VEVENT
DTSTART;TZID=UTC:20250308T080000
DTEND;TZID=UTC:20250308T170000
DTSTAMP:20260421T053122
CREATED:20250401T130902Z
LAST-MODIFIED:20250401T130902Z
UID:2825-1741420800-1741453200@avthouthalenhelchteren.be
SUMMARY:Open meeting met jeugd (Heusden)
DESCRIPTION:
URL:https://www.atletiek.nu/wedstrijd/inschrijven/41702/#new_tab
CATEGORIES:Externe wedstrijden
END:VEVENT
BEGIN:VEVENT
DTSTART;TZID=UTC:20250305T080000
DTEND;TZID=UTC:20250305T170000
DTSTAMP:20260421T053122
CREATED:20250401T130902Z
LAST-MODIFIED:20250401T130902Z
UID:2822-1741161600-1741194000@avthouthalenhelchteren.be
SUMMARY:Kan/Ben indoormeeting 2 (Heusden)
DESCRIPTION:
URL:https://www.atletiek.nu/wedstrijd/inschrijven/41701/#new_tab
CATEGORIES:Externe wedstrijden
END:VEVENT
BEGIN:VEVENT
DTSTART;TZID=UTC:20250222T080000
DTEND;TZID=UTC:20250222T170000
DTSTAMP:20260421T053122
CREATED:20250401T130903Z
LAST-MODIFIED:20250401T130903Z
UID:2819-1740211200-1740243600@avthouthalenhelchteren.be
SUMMARY:Open meeting met jeugd (Heusden)
DESCRIPTION:
URL:https://www.atletiek.nu/wedstrijd/inschrijven/41728/#new_tab
CATEGORIES:Externe wedstrijden
END:VEVENT
END:VCALENDAR