BEGIN:VCALENDAR
VERSION:2.0
PRODID:-//AVT Houthalen-Helchteren - ECPv6.6.0.2//NONSGML v1.0//EN
CALSCALE:GREGORIAN
METHOD:PUBLISH
X-WR-CALNAME:AVT Houthalen-Helchteren
X-ORIGINAL-URL:https://avthouthalenhelchteren.be
X-WR-CALDESC:Evenementen voor AVT Houthalen-Helchteren
REFRESH-INTERVAL;VALUE=DURATION:PT1H
X-Robots-Tag:noindex
X-PUBLISHED-TTL:PT1H
BEGIN:VTIMEZONE
TZID:UTC
BEGIN:STANDARD
TZOFFSETFROM:+0000
TZOFFSETTO:+0000
TZNAME:UTC
DTSTART:20260101T000000
END:STANDARD
END:VTIMEZONE
BEGIN:VEVENT
DTSTART;TZID=UTC:20260304T171500
DTEND;TZID=UTC:20260304T171500
DTSTAMP:20260425T134739
CREATED:20251113T145608Z
LAST-MODIFIED:20251113T145608Z
UID:25241-1772644500-1772644500@avthouthalenhelchteren.be
SUMMARY:Kan/ben indoormeeting (Heusden)
DESCRIPTION:
URL:https://avthouthalenhelchteren.be/event/kan-ben-indoormeeting-heusden-2/
CATEGORIES:Externe wedstrijden
END:VEVENT
BEGIN:VEVENT
DTSTART;TZID=UTC:20260313T130000
DTEND;TZID=UTC:20260313T130000
DTSTAMP:20260425T134739
CREATED:20251113T145608Z
LAST-MODIFIED:20251113T145608Z
UID:25242-1773406800-1773406800@avthouthalenhelchteren.be
SUMMARY:Open meeting met jeugd (Heusden)
DESCRIPTION:
URL:https://avthouthalenhelchteren.be/event/open-meeting-met-jeugd-heusden-8/
CATEGORIES:Externe wedstrijden
END:VEVENT
BEGIN:VEVENT
DTSTART;TZID=UTC:20260315T080000
DTEND;TZID=UTC:20260315T080000
DTSTAMP:20260425T134740
CREATED:20251113T145623Z
LAST-MODIFIED:20251113T145623Z
UID:25243-1773561600-1773561600@avthouthalenhelchteren.be
SUMMARY:VijverRun33 (Heusden)
DESCRIPTION:
URL:https://avthouthalenhelchteren.be/event/vijverrun33-heusden/
CATEGORIES:Externe wedstrijden
END:VEVENT
BEGIN:VEVENT
DTSTART;TZID=UTC:20260328T140000
DTEND;TZID=UTC:20260328T140000
DTSTAMP:20260425T134740
CREATED:20251113T145623Z
LAST-MODIFIED:20251113T145623Z
UID:25244-1774706400-1774706400@avthouthalenhelchteren.be
SUMMARY:AVT jeugddag (Heusden)
DESCRIPTION:
URL:https://avthouthalenhelchteren.be/event/avt-jeugddag-heusden/
CATEGORIES:Externe wedstrijden
END:VEVENT
BEGIN:VEVENT
DTSTART;TZID=UTC:20260503T140000
DTEND;TZID=UTC:20260503T140000
DTSTAMP:20260425T134740
CREATED:20260403T140806Z
LAST-MODIFIED:20260403T140806Z
UID:28785-1777816800-1777816800@avthouthalenhelchteren.be
SUMMARY:Open meeting (Hasselt)
DESCRIPTION:
URL:https://avthouthalenhelchteren.be/event/open-meeting-hasselt-2/
CATEGORIES:Externe wedstrijden
END:VEVENT
BEGIN:VEVENT
DTSTART;TZID=UTC:20260523T140000
DTEND;TZID=UTC:20260523T140000
DTSTAMP:20260425T134740
CREATED:20260403T140806Z
LAST-MODIFIED:20260403T140806Z
UID:28787-1779544800-1779544800@avthouthalenhelchteren.be
SUMMARY:Open meeting (Hechtel)
DESCRIPTION:
URL:https://avthouthalenhelchteren.be/event/open-meeting-hechtel-2/
CATEGORIES:Externe wedstrijden
END:VEVENT
BEGIN:VEVENT
DTSTART;TZID=UTC:20260620T100000
DTEND;TZID=UTC:20260620T100000
DTSTAMP:20260425T134740
CREATED:20260403T140809Z
LAST-MODIFIED:20260403T140809Z
UID:28791-1781949600-1781949600@avthouthalenhelchteren.be
SUMMARY:KAN/BEN meeting (Hasselt)
DESCRIPTION:
URL:https://avthouthalenhelchteren.be/event/kan-ben-meeting-hasselt-2/
CATEGORIES:Externe wedstrijden
END:VEVENT
BEGIN:VEVENT
DTSTART;TZID=UTC:20260620T100000
DTEND;TZID=UTC:20260620T100000
DTSTAMP:20260425T134740
CREATED:20260403T140809Z
LAST-MODIFIED:20260403T140809Z
UID:28792-1781949600-1781949600@avthouthalenhelchteren.be
SUMMARY:Jeugdmeeting (Hasselt)
DESCRIPTION:
URL:https://avthouthalenhelchteren.be/event/jeugdmeeting-hasselt/
CATEGORIES:Externe wedstrijden
END:VEVENT
BEGIN:VEVENT
DTSTART;TZID=UTC:20260620T133000
DTEND;TZID=UTC:20260620T133000
DTSTAMP:20260425T134740
CREATED:20260403T140810Z
LAST-MODIFIED:20260403T140810Z
UID:28793-1781962200-1781962200@avthouthalenhelchteren.be
SUMMARY:Midsummer Trail (Oudsbergen)
DESCRIPTION:
URL:https://avthouthalenhelchteren.be/event/midsummer-trail-oudsbergen-2/
CATEGORIES:Externe wedstrijden
END:VEVENT
BEGIN:VEVENT
DTSTART;TZID=UTC:20260906T100000
DTEND;TZID=UTC:20260906T100000
DTSTAMP:20260425T134740
CREATED:20260403T140839Z
LAST-MODIFIED:20260403T140839Z
UID:28800-1788688800-1788688800@avthouthalenhelchteren.be
SUMMARY:KAN/BEN meeting (Hechtel)
DESCRIPTION:
URL:https://avthouthalenhelchteren.be/event/kan-ben-meeting-hechtel-3/
CATEGORIES:Externe wedstrijden
END:VEVENT
BEGIN:VEVENT
DTSTART;TZID=UTC:20260906T140000
DTEND;TZID=UTC:20260906T140000
DTSTAMP:20260425T134740
CREATED:20260403T140839Z
LAST-MODIFIED:20260403T140839Z
UID:28801-1788703200-1788703200@avthouthalenhelchteren.be
SUMMARY:Jeugdmeeting (Hechtel)
DESCRIPTION:
URL:https://avthouthalenhelchteren.be/event/jeugdmeeting-hechtel/
CATEGORIES:Externe wedstrijden
END:VEVENT
END:VCALENDAR