BEGIN:VCALENDAR
VERSION:2.0
PRODID:-//AVT Houthalen-Helchteren - ECPv6.6.0.2//NONSGML v1.0//EN
CALSCALE:GREGORIAN
METHOD:PUBLISH
X-ORIGINAL-URL:https://avthouthalenhelchteren.be
X-WR-CALDESC:Evenementen voor AVT Houthalen-Helchteren
REFRESH-INTERVAL;VALUE=DURATION:PT1H
X-Robots-Tag:noindex
X-PUBLISHED-TTL:PT1H
BEGIN:VTIMEZONE
TZID:UTC
BEGIN:STANDARD
TZOFFSETFROM:+0000
TZOFFSETTO:+0000
TZNAME:UTC
DTSTART:20260101T000000
END:STANDARD
END:VTIMEZONE
BEGIN:VEVENT
DTSTART;TZID=UTC:20260403T183000
DTEND;TZID=UTC:20260403T183000
DTSTAMP:20260420T225927
CREATED:20251113T145623Z
LAST-MODIFIED:20251113T145623Z
UID:25246-1775241000-1775241000@avthouthalenhelchteren.be
SUMMARY:Paastraining
DESCRIPTION:Training in het thema pasen (niet godsdienstig)\, waar de jeugd leren lopen en springen als een haas. Op het einde wacht hun nog een lekkere verrassing!
URL:https://avthouthalenhelchteren.be/event/paastraining-2/
CATEGORIES:Thematrainingen
END:VEVENT
END:VCALENDAR