BEGIN:VCALENDAR
VERSION:2.0
PRODID:-//AVT Houthalen-Helchteren - ECPv6.6.0.2//NONSGML v1.0//EN
CALSCALE:GREGORIAN
METHOD:PUBLISH
X-ORIGINAL-URL:https://avthouthalenhelchteren.be
X-WR-CALDESC:Evenementen voor AVT Houthalen-Helchteren
REFRESH-INTERVAL;VALUE=DURATION:PT1H
X-Robots-Tag:noindex
X-PUBLISHED-TTL:PT1H
BEGIN:VTIMEZONE
TZID:UTC
BEGIN:STANDARD
TZOFFSETFROM:+0000
TZOFFSETTO:+0000
TZNAME:UTC
DTSTART:20260101T000000
END:STANDARD
END:VTIMEZONE
BEGIN:VEVENT
DTSTART;TZID=UTC:20260123T200000
DTEND;TZID=UTC:20260123T200000
DTSTAMP:20260421T052124
CREATED:20251113T145553Z
LAST-MODIFIED:20260113T101853Z
UID:25236-1769198400-1769198400@avthouthalenhelchteren.be
SUMMARY:Nieuwjaarsreceptie (Heusden)
DESCRIPTION:Op uitnodiging met aanmeldingsverplichting via mail\, je moet minimum 40 punten in het puntensysteem.
URL:https://avthouthalenhelchteren.be/event/nieuwjaarsreceptie-heusden/
CATEGORIES:Externe wedstrijden
END:VEVENT
END:VCALENDAR