BEGIN:VCALENDAR
VERSION:2.0
PRODID:-//AVT Houthalen-Helchteren - ECPv6.6.0.2//NONSGML v1.0//EN
CALSCALE:GREGORIAN
METHOD:PUBLISH
X-ORIGINAL-URL:https://avthouthalenhelchteren.be
X-WR-CALDESC:Evenementen voor AVT Houthalen-Helchteren
REFRESH-INTERVAL;VALUE=DURATION:PT1H
X-Robots-Tag:noindex
X-PUBLISHED-TTL:PT1H
BEGIN:VTIMEZONE
TZID:UTC
BEGIN:STANDARD
TZOFFSETFROM:+0000
TZOFFSETTO:+0000
TZNAME:UTC
DTSTART:20260101T000000
END:STANDARD
END:VTIMEZONE
BEGIN:VEVENT
DTSTART;TZID=UTC:20260109T183000
DTEND;TZID=UTC:20260109T183000
DTSTAMP:20260421T052114
CREATED:20251113T145551Z
LAST-MODIFIED:20251217T213141Z
UID:25232-1767983400-1767983400@avthouthalenhelchteren.be
SUMMARY:Nieuwjaar training
DESCRIPTION:Nog een beetje navieren dat het nieuwe jaar is gestart in de vorm van een training.\nWe bieden deze dag een gluewine en/of warme choco aan een schappelijke prijs!
URL:https://avthouthalenhelchteren.be/event/nieuwjaar-training/
CATEGORIES:Thematrainingen
END:VEVENT
END:VCALENDAR