BEGIN:VCALENDAR
VERSION:2.0
PRODID:-//AVT Houthalen-Helchteren - ECPv6.6.0.2//NONSGML v1.0//EN
CALSCALE:GREGORIAN
METHOD:PUBLISH
X-ORIGINAL-URL:https://avthouthalenhelchteren.be
X-WR-CALDESC:Evenementen voor AVT Houthalen-Helchteren
REFRESH-INTERVAL;VALUE=DURATION:PT1H
X-Robots-Tag:noindex
X-PUBLISHED-TTL:PT1H
BEGIN:VTIMEZONE
TZID:UTC
BEGIN:STANDARD
TZOFFSETFROM:+0000
TZOFFSETTO:+0000
TZNAME:UTC
DTSTART:20260101T000000
END:STANDARD
END:VTIMEZONE
BEGIN:VEVENT
DTSTART;TZID=UTC:20260104T100000
DTEND;TZID=UTC:20260104T100000
DTSTAMP:20260421T052108
CREATED:20251113T145552Z
LAST-MODIFIED:20251113T145552Z
UID:25233-1767520800-1767520800@avthouthalenhelchteren.be
SUMMARY:Provinciaal Kampioenschap indoor AC dag 1
DESCRIPTION:
URL:https://avthouthalenhelchteren.be/event/provinciaal-kampioenschap-indoor-ac-dag-1/
CATEGORIES:Externe wedstrijden
END:VEVENT
END:VCALENDAR