BEGIN:VCALENDAR
VERSION:2.0
PRODID:-//AVT Houthalen-Helchteren - ECPv6.6.0.2//NONSGML v1.0//EN
CALSCALE:GREGORIAN
METHOD:PUBLISH
X-WR-CALNAME:AVT Houthalen-Helchteren
X-ORIGINAL-URL:https://avthouthalenhelchteren.be
X-WR-CALDESC:Evenementen voor AVT Houthalen-Helchteren
REFRESH-INTERVAL;VALUE=DURATION:PT1H
X-Robots-Tag:noindex
X-PUBLISHED-TTL:PT1H
BEGIN:VTIMEZONE
TZID:UTC
BEGIN:STANDARD
TZOFFSETFROM:+0000
TZOFFSETTO:+0000
TZNAME:UTC
DTSTART:20250101T000000
END:STANDARD
END:VTIMEZONE
BEGIN:VEVENT
DTSTART;TZID=UTC:20251031T183000
DTEND;TZID=UTC:20251031T200000
DTSTAMP:20260421T082342
CREATED:20250401T123029Z
LAST-MODIFIED:20250627T120844Z
UID:5472-1761935400-1761940800@avthouthalenhelchteren.be
SUMMARY:Halloween training
DESCRIPTION:Training in het thema Halloweeen\, griezelige training waar je verkleed mag komen. Soep en warme drankjes verkrijgbaar.
URL:https://avthouthalenhelchteren.be/event/halloween-training-2/
CATEGORIES:Thematrainingen
END:VEVENT
END:VCALENDAR