BEGIN:VCALENDAR
VERSION:2.0
PRODID:-//AVT Houthalen-Helchteren - ECPv6.6.0.2//NONSGML v1.0//EN
CALSCALE:GREGORIAN
METHOD:PUBLISH
X-WR-CALNAME:AVT Houthalen-Helchteren
X-ORIGINAL-URL:https://avthouthalenhelchteren.be
X-WR-CALDESC:Evenementen voor AVT Houthalen-Helchteren
REFRESH-INTERVAL;VALUE=DURATION:PT1H
X-Robots-Tag:noindex
X-PUBLISHED-TTL:PT1H
BEGIN:VTIMEZONE
TZID:UTC
BEGIN:STANDARD
TZOFFSETFROM:+0000
TZOFFSETTO:+0000
TZNAME:UTC
DTSTART:20250101T000000
END:STANDARD
END:VTIMEZONE
BEGIN:VEVENT
DTSTART;TZID=UTC:20250728T090000
DTEND;TZID=UTC:20250728T090000
DTSTAMP:20260423T103148
CREATED:20250401T123200Z
LAST-MODIFIED:20250401T131815Z
UID:5492-1753693200-1753693200@avthouthalenhelchteren.be
SUMMARY:Sportkamp met atletiek
DESCRIPTION:
URL:https://avthouthalenhelchteren.be/event/sportkamp-met-atletiek/
CATEGORIES:Kern activiteiten
END:VEVENT
END:VCALENDAR